BEGIN:VCALENDAR
VERSION:2.0
PRODID:-//Walton Athletic Club - ECPv6.10.1.1//NONSGML v1.0//EN
CALSCALE:GREGORIAN
METHOD:PUBLISH
X-ORIGINAL-URL:https://waltonac.co.uk
X-WR-CALDESC:Events for Walton Athletic Club
REFRESH-INTERVAL;VALUE=DURATION:PT1H
X-Robots-Tag:noindex
X-PUBLISHED-TTL:PT1H
BEGIN:VTIMEZONE
TZID:UTC
BEGIN:STANDARD
TZOFFSETFROM:+0000
TZOFFSETTO:+0000
TZNAME:UTC
DTSTART:20250101T000000
END:STANDARD
END:VTIMEZONE
BEGIN:VEVENT
DTSTART;VALUE=DATE:20250511
DTEND;VALUE=DATE:20250512
DTSTAMP:20260422T141413
CREATED:20240429T171327Z
LAST-MODIFIED:20250221T095209Z
UID:3309-1746921600-1747007999@waltonac.co.uk
SUMMARY:Richmond Half Marathon – Surrey Road  League Race 2
DESCRIPTION:Ranelagh Harriers’ annual half marathon race\, which dates back to 1980\, is a fast and flat course which runs through Richmond and Twickenham\, down to Kingston Bridge and back up along the Thames towpath to Ham. The race forms part of the Ranelagh Harriers’ Summer Road Grand Prix and is its half marathon road championships race. It is also the Surrey Half Marathon Championships and forms part of the Surrey Road League.
URL:https://waltonac.co.uk/fixtures/richmond-half-marathon-surrey-road-league-race-2
LOCATION:Ham
CATEGORIES:Road Running
END:VEVENT
END:VCALENDAR