BEGIN:VCALENDAR
VERSION:2.0
PRODID:-//Walton Athletic Club - ECPv6.10.1.1//NONSGML v1.0//EN
CALSCALE:GREGORIAN
METHOD:PUBLISH
X-ORIGINAL-URL:https://waltonac.co.uk
X-WR-CALDESC:Events for Walton Athletic Club
REFRESH-INTERVAL;VALUE=DURATION:PT1H
X-Robots-Tag:noindex
X-PUBLISHED-TTL:PT1H
BEGIN:VTIMEZONE
TZID:UTC
BEGIN:STANDARD
TZOFFSETFROM:+0000
TZOFFSETTO:+0000
TZNAME:UTC
DTSTART:20250101T000000
END:STANDARD
END:VTIMEZONE
BEGIN:VEVENT
DTSTART;VALUE=DATE:20250622
DTEND;VALUE=DATE:20250623
DTSTAMP:20260422T194714
CREATED:20240429T173911Z
LAST-MODIFIED:20250221T100943Z
UID:3352-1750550400-1750636799@waltonac.co.uk
SUMMARY:Richmond 10km – Surrey Road League  Race 4
DESCRIPTION:This is a fast 10k in a great location near Richmond Upon Thames\, with scenic views of the river and trees around Teddington Lock and Ham House. The flat two-lap course is run partly on roads and the Thames Towpath\, providing a great opportunity for a new PB!
URL:https://waltonac.co.uk/fixtures/richmond-10km-surrey-road-league-race-4
LOCATION:Ham
CATEGORIES:Road Running
END:VEVENT
END:VCALENDAR