BEGIN:VCALENDAR
VERSION:2.0
PRODID:-//Walton Athletic Club - ECPv6.10.1.1//NONSGML v1.0//EN
CALSCALE:GREGORIAN
METHOD:PUBLISH
X-ORIGINAL-URL:https://waltonac.co.uk
X-WR-CALDESC:Events for Walton Athletic Club
REFRESH-INTERVAL;VALUE=DURATION:PT1H
X-Robots-Tag:noindex
X-PUBLISHED-TTL:PT1H
BEGIN:VTIMEZONE
TZID:UTC
BEGIN:STANDARD
TZOFFSETFROM:+0000
TZOFFSETTO:+0000
TZNAME:UTC
DTSTART:20250101T000000
END:STANDARD
END:VTIMEZONE
BEGIN:VEVENT
DTSTART;VALUE=DATE:20250524
DTEND;VALUE=DATE:20250525
DTSTAMP:20260422T160451
CREATED:20240429T172519Z
LAST-MODIFIED:20250221T095900Z
UID:3326-1748044800-1748131199@waltonac.co.uk
SUMMARY:BMAF Throws Pentathlon & One mile/10000m Championships
DESCRIPTION:
URL:https://waltonac.co.uk/fixtures/bmaf-throws-pentathlon-one-mile-10000m-championships
LOCATION:Oxford
CATEGORIES:Track & Field
END:VEVENT
END:VCALENDAR